BEGIN:VCALENDAR
VERSION:2.0
PRODID:-//eventon.com NONSGML v1.0//EN
BEGIN:VEVENT
UID:69e788c3d6296
DTSTAMP:20260421T082507
DTSTART:20230907T010000Z
DTEND:20230907T040000Z
TZID:America/Denver
LOCATION:
SUMMARY:Dierks Bentley\,  The Infamous Stringdusters\,  Tanner Usrey & Kaitlin Butts at Red Rocks Amphitheatre
DESCRIPTION: Dierks Bentley\,  The Infamous Stringdusters\,  Tanner Usrey & Kaitlin Butts at Red Rocks Amphitheatre Drunk On A Plane singer Dierks Bentley released his tenth studio album\,  GRAVEL & GOLD\,  and has announced he is going on a tour to support his latest release! Get a glimpse of the country superstar[..]\nhttps://mugshoppe.net/events/dierks-bentley/
URL:https://mugshoppe.net/events/dierks-bentley/
END:VEVENT
END:VCALENDAR