BEGIN:VCALENDAR
VERSION:2.0
PRODID:-//eventon.com NONSGML v1.0//EN
BEGIN:VEVENT
UID:69e5e8a2df8fd
DTSTAMP:20260420T024938
DTSTART:20230303T030000Z
DTEND:20230303T050000Z
TZID:America/Denver
LOCATION:
SUMMARY:STEPHEN SANCHEZ W/ CECE COAKLEY
DESCRIPTION: STEPHEN SANCHEZ W/ CECE COAKLEY at Globe Hall 8:00am With a dusty baritone as bright as an eternally lit jukebox and tattooed fingers around the fretboard of a rare guitar\,  Stephen Sanchez tunes into longing and love with the acuity of a triedand- tested troubadour—yet he’s only 19-years-old. Transcending eras\,  he writes the[..]\nhttps://mugshoppe.net/events/stephen-sanchez/
URL:https://mugshoppe.net/events/stephen-sanchez/
END:VEVENT
END:VCALENDAR