BEGIN:VCALENDAR
VERSION:2.0
PRODID:-//eventon.com NONSGML v1.0//EN
BEGIN:VEVENT
UID:69e734e352857
DTSTAMP:20260421T022715
DTSTART:20230221T030000Z
DTEND:20230221T050000Z
TZID:America/Denver
LOCATION:
SUMMARY:Tove Lo at Mission Ballroom
DESCRIPTION: Tove Lo At Mission Ballroom Tove Lo embodies every side of her own femininity in her music. She can be powerful in one breath and lusty in the next. Her cleverness will turn into introspection just before she makes herself heard again. She fights hard and loves even harder. Tove[..]\nhttps://mugshoppe.net/events/tove-lo/
URL:https://mugshoppe.net/events/tove-lo/
END:VEVENT
END:VCALENDAR