BEGIN:VCALENDAR
VERSION:2.0
PRODID:-//eventon.com NONSGML v1.0//EN
BEGIN:VEVENT
UID:69e6004318401
DTSTAMP:20260420T043027
DTSTART:20230118T030000Z
DTEND:20230118T070000Z
TZID:America/Denver
LOCATION:
SUMMARY:Electronic Tuesdays: Antithesis w/ Shoebox\,  CurlyOnE
DESCRIPTION: Sub.mission presents Electronic Tuesdays: Antithesis w/ Shoebox\,  CurlyOnE Jan 17\,  2023 at 8:00 PM to Jan 25\,  2023 at 1:00 AM The Black Box 314 East 13th Avenue Denver\,  CO 80203 At The Black Box\,  it’s all about the music. Denver’s devoted home for underground music is designed to encompass the total sound[..]\nhttps://mugshoppe.net/events/antithesis/
URL:https://mugshoppe.net/events/antithesis/
END:VEVENT
END:VCALENDAR