BEGIN:VCALENDAR
VERSION:2.0
PRODID:-//eventon.com NONSGML v1.0//EN
BEGIN:VEVENT
UID:69e7449617bde
DTSTAMP:20260421T033414
DTSTART:20220911T190000Z
DTEND:20220911T220000Z
TZID:America/Denver
LOCATION:
SUMMARY:The Okee Dokee Brothers
DESCRIPTION: Swallow Hill welcomes The Okee Dokee Brothers to our Daniels stage! About this event With overwhelming response from the community\,  a second matinee show has been added! As childhood friends growing up in Denver\,  Colorado\,  Joe Mailander and Justin Lansing were always exploring the outdoors. Whether it was rafting down[..]\nhttps://mugshoppe.net/events/the-okee-dokee-brothers/
URL:https://mugshoppe.net/events/the-okee-dokee-brothers/
END:VEVENT
END:VCALENDAR